BEGIN:VCALENDAR
VERSION:2.0
PRODID:-//wp-events-plugin.com//7.2.3.1//EN
BEGIN:VEVENT
UID:42@gitarrenjugend-loga.de
DTSTART:20241010T174500Z
DTEND:20241010T193000Z
DTSTAMP:20231122T134115Z
URL:http://www.gitarrenjugend-loga.de/events/chorprobe-2024-10-10/
SUMMARY:Chorprobe
DESCRIPTION:Jeden Donnerstag\, außer in den Ferien!
CATEGORIES:Chorprobe
LOCATION:Gemeindehaus der Friedenskirche Loga\, Hindenburgstraße 4\, Leer\
 , Niedersachsen\, 26789\, Ostfriesland\, Deutschland
X-APPLE-STRUCTURED-LOCATION;VALUE=URI;X-ADDRESS=Hindenburgstraße 4\, Leer\
 , Niedersachsen\, 26789\, Ostfriesland\, Deutschland;X-APPLE-RADIUS=100;X-
 TITLE=Gemeindehaus der Friedenskirche Loga:geo:0,0
END:VEVENT
END:VCALENDAR