BEGIN:VCALENDAR
VERSION:2.0
PRODID:-//wp-events-plugin.com//7.2.3.1//EN
BEGIN:VEVENT
UID:63@gitarrenjugend-loga.de
DTSTART:20231202T150000Z
DTEND:20231202T170000Z
DTSTAMP:20231122T145508Z
URL:http://www.gitarrenjugend-loga.de/events/seniorenadventsfeier/
SUMMARY:Seniorenadventsfeier
DESCRIPTION:Adventsfeier der Stadt Leer für die Senioren des Ortsteils Log
 a.
CATEGORIES:Chorauftritt
LOCATION:Mensa der Lebenshilfe Leer\, Großer Stein\, Leer\, Niedersachsen\
 , 26789\, Ostfriesland\, Deutschland
X-APPLE-STRUCTURED-LOCATION;VALUE=URI;X-ADDRESS=Großer Stein\, Leer\, Nied
 ersachsen\, 26789\, Ostfriesland\, Deutschland;X-APPLE-RADIUS=100;X-TITLE=
 Mensa der Lebenshilfe Leer:geo:0,0
END:VEVENT
END:VCALENDAR